BEGIN:VCALENDAR
VERSION:2.0
PRODID:-//Xenharmonikon - ECPv6.15.20//NONSGML v1.0//EN
CALSCALE:GREGORIAN
METHOD:PUBLISH
X-ORIGINAL-URL:https://www.xenharmonikon.org
X-WR-CALDESC:Events for Xenharmonikon
REFRESH-INTERVAL;VALUE=DURATION:PT1H
X-Robots-Tag:noindex
X-PUBLISHED-TTL:PT1H
BEGIN:VTIMEZONE
TZID:America/New_York
BEGIN:DAYLIGHT
TZOFFSETFROM:-0500
TZOFFSETTO:-0400
TZNAME:EDT
DTSTART:20200308T070000
END:DAYLIGHT
BEGIN:STANDARD
TZOFFSETFROM:-0400
TZOFFSETTO:-0500
TZNAME:EST
DTSTART:20201101T060000
END:STANDARD
BEGIN:DAYLIGHT
TZOFFSETFROM:-0500
TZOFFSETTO:-0400
TZNAME:EDT
DTSTART:20210314T070000
END:DAYLIGHT
BEGIN:STANDARD
TZOFFSETFROM:-0400
TZOFFSETTO:-0500
TZNAME:EST
DTSTART:20211107T060000
END:STANDARD
BEGIN:DAYLIGHT
TZOFFSETFROM:-0500
TZOFFSETTO:-0400
TZNAME:EDT
DTSTART:20220313T070000
END:DAYLIGHT
BEGIN:STANDARD
TZOFFSETFROM:-0400
TZOFFSETTO:-0500
TZNAME:EST
DTSTART:20221106T060000
END:STANDARD
BEGIN:DAYLIGHT
TZOFFSETFROM:-0500
TZOFFSETTO:-0400
TZNAME:EDT
DTSTART:20230312T070000
END:DAYLIGHT
BEGIN:STANDARD
TZOFFSETFROM:-0400
TZOFFSETTO:-0500
TZNAME:EST
DTSTART:20231105T060000
END:STANDARD
END:VTIMEZONE
BEGIN:VTIMEZONE
TZID:America/Los_Angeles
BEGIN:DAYLIGHT
TZOFFSETFROM:-0800
TZOFFSETTO:-0700
TZNAME:PDT
DTSTART:20200308T100000
END:DAYLIGHT
BEGIN:STANDARD
TZOFFSETFROM:-0700
TZOFFSETTO:-0800
TZNAME:PST
DTSTART:20201101T090000
END:STANDARD
BEGIN:DAYLIGHT
TZOFFSETFROM:-0800
TZOFFSETTO:-0700
TZNAME:PDT
DTSTART:20210314T100000
END:DAYLIGHT
BEGIN:STANDARD
TZOFFSETFROM:-0700
TZOFFSETTO:-0800
TZNAME:PST
DTSTART:20211107T090000
END:STANDARD
BEGIN:DAYLIGHT
TZOFFSETFROM:-0800
TZOFFSETTO:-0700
TZNAME:PDT
DTSTART:20220313T100000
END:DAYLIGHT
BEGIN:STANDARD
TZOFFSETFROM:-0700
TZOFFSETTO:-0800
TZNAME:PST
DTSTART:20221106T090000
END:STANDARD
END:VTIMEZONE
BEGIN:VTIMEZONE
TZID:Europe/Amsterdam
BEGIN:DAYLIGHT
TZOFFSETFROM:+0100
TZOFFSETTO:+0200
TZNAME:CEST
DTSTART:20200329T010000
END:DAYLIGHT
BEGIN:STANDARD
TZOFFSETFROM:+0200
TZOFFSETTO:+0100
TZNAME:CET
DTSTART:20201025T010000
END:STANDARD
BEGIN:DAYLIGHT
TZOFFSETFROM:+0100
TZOFFSETTO:+0200
TZNAME:CEST
DTSTART:20210328T010000
END:DAYLIGHT
BEGIN:STANDARD
TZOFFSETFROM:+0200
TZOFFSETTO:+0100
TZNAME:CET
DTSTART:20211031T010000
END:STANDARD
BEGIN:DAYLIGHT
TZOFFSETFROM:+0100
TZOFFSETTO:+0200
TZNAME:CEST
DTSTART:20220327T010000
END:DAYLIGHT
BEGIN:STANDARD
TZOFFSETFROM:+0200
TZOFFSETTO:+0100
TZNAME:CET
DTSTART:20221030T010000
END:STANDARD
END:VTIMEZONE
BEGIN:VTIMEZONE
TZID:Australia/Sydney
BEGIN:STANDARD
TZOFFSETFROM:+1100
TZOFFSETTO:+1000
TZNAME:AEST
DTSTART:20200404T160000
END:STANDARD
BEGIN:DAYLIGHT
TZOFFSETFROM:+1000
TZOFFSETTO:+1100
TZNAME:AEDT
DTSTART:20201003T160000
END:DAYLIGHT
BEGIN:STANDARD
TZOFFSETFROM:+1100
TZOFFSETTO:+1000
TZNAME:AEST
DTSTART:20210403T160000
END:STANDARD
BEGIN:DAYLIGHT
TZOFFSETFROM:+1000
TZOFFSETTO:+1100
TZNAME:AEDT
DTSTART:20211002T160000
END:DAYLIGHT
BEGIN:STANDARD
TZOFFSETFROM:+1100
TZOFFSETTO:+1000
TZNAME:AEST
DTSTART:20220402T160000
END:STANDARD
BEGIN:DAYLIGHT
TZOFFSETFROM:+1000
TZOFFSETTO:+1100
TZNAME:AEDT
DTSTART:20221001T160000
END:DAYLIGHT
END:VTIMEZONE
BEGIN:VEVENT
DTSTART;TZID=America/New_York:20210905T130000
DTEND;TZID=America/New_York:20210905T143000
DTSTAMP:20260422T201508
CREATED:20210904T095452Z
LAST-MODIFIED:20210904T101137Z
UID:1109-1630846800-1630852200@www.xenharmonikon.org
SUMMARY:MU Virtual University (Opening Event)
DESCRIPTION:Sunday Sept 5  \n1:00-1:35 PM (EST) Introduction to MU with American Festival of Microtonal Music (AFMM) Director Johnny Reinhard\, to include scheduling plans\, lessons policy\, philosophy\, homework… \n1:35-1:40 PM (EST) AFMM President\, pianist Joshua Pierce\, gives his imprimatur to MU. \n1:40-1:55 PM (EST) Furman University Archivist Jeffrey Makala announces the Furman University Microtonal Archive. \n1:55-2:05 PM (EST) Questions\, comments\, thoughts? \n2:05-2:30 PM (EST) – CONCERT PREMIERE \n“Asteroid Belt” by Johnny Reinhard performed by cellist Dave Eggar in an apparently new dimension of tuning (a different 128 notes\, that takes its scale from the 9th octave of the overtone series). \nDave Eggar\, cello soloist: Johnny Reinhard – ODYSSEUS – YouTube \n\nA $200 USD yearly membership is available at afmm.org which includes admission to all virtual events.
URL:https://www.xenharmonikon.org/event/mu-university-opening-virtual-event/
LOCATION:afmm.org online\, NYC\, United States
CATEGORIES:Virtual Event
END:VEVENT
BEGIN:VEVENT
DTSTART;TZID=America/New_York:20210912T113000
DTEND;TZID=America/New_York:20210912T143000
DTSTAMP:20260422T201508
CREATED:20210904T085213Z
LAST-MODIFIED:20210904T101831Z
UID:1120-1631446200-1631457000@www.xenharmonikon.org
SUMMARY:MU Virtual University (Event #2)
DESCRIPTION:Sunday Sept 12  \n11:30 AM-12:30 PM (EST) Instruction:  Kraig Grady (LA/Australia) and \nTerumi Narushima (Australia) present their music and themselves\, along with the theories of the microtonally imaginative Ervin (“Erv”) Wilson (1928-2016) \n֎ \n1-2:30 PM (EST) Philipp Gerschlauer (Berlin) examines The New Field of Microtonal jazz\, its history\, friends\, his pioneering album\, and introduces 128 tuning to Jazz \n\nA $200 USD yearly membership is available at afmm.org which includes admission to all virtual events.
URL:https://www.xenharmonikon.org/event/mu-university-virtual-event-2/
LOCATION:afmm.org online\, NYC\, United States
CATEGORIES:Virtual Event
END:VEVENT
BEGIN:VEVENT
DTSTART;TZID=America/New_York:20210919T130000
DTEND;TZID=America/New_York:20210919T163000
DTSTAMP:20260422T201508
CREATED:20210904T100320Z
LAST-MODIFIED:20210904T101752Z
UID:1125-1632056400-1632069000@www.xenharmonikon.org
SUMMARY:MU Virtual University (Event #3)
DESCRIPTION:Sunday Sept 19 \n1-2:30 PM (EST) \n“String Theory” by Johnny Reinhard is premiered by violinist Dan Auerbach in 128 tuning in Staten Island\, NYC \n“Cadencia Guitarra” by Julian Carrillo is premiered by \nAngel Blanco on the quartertone guitar in Quebec \n“GG (solo version)” by Jordan Dykstra performs his new solo work for melodica and electronics in 21-tone equal temperament in Brooklyn \n“Wasiyya” by Nicola Visalli is premiered by violinist Natia Mdinaradze in quartertones in Tblissi\, Georgia \n֎ \n3-4:30 PM (EST)  Jon Catler rocks in just intonation\, with guest Hansford Rowe \n\nA $200 USD yearly membership is available at afmm.org which includes admission to all virtual events.
URL:https://www.xenharmonikon.org/event/mu-virtual-university-event-3/
LOCATION:afmm.org online\, NYC\, United States
CATEGORIES:Virtual Event
END:VEVENT
BEGIN:VEVENT
DTSTART;TZID=America/New_York:20210926T130000
DTEND;TZID=America/New_York:20210926T143000
DTSTAMP:20260422T201508
CREATED:20210904T101043Z
LAST-MODIFIED:20210904T101656Z
UID:1127-1632661200-1632666600@www.xenharmonikon.org
SUMMARY:MU University (Virtual Event #4)
DESCRIPTION:Sunday Sept 26         \n1-2:30 PM (EST) Composers Forum moderated by Johnny Reinhard featuring panelists: \n\nYuri Kasparov (Russia)\nJuhani Nuorvala (Finland)\nGloria Coates (USA)\nManfred Stahnke (Germany)\nNicola Visalli (Italy)\n\n\nA $200 USD yearly membership is available at afmm.org which includes admission to all virtual events.
URL:https://www.xenharmonikon.org/event/mu-university-virtual-event-4/
LOCATION:afmm.org online\, NYC\, United States
CATEGORIES:Virtual Event
END:VEVENT
BEGIN:VEVENT
DTSTART;TZID=America/New_York:20211113T150000
DTEND;TZID=America/New_York:20211113T160000
DTSTAMP:20260422T201508
CREATED:20211113T170711Z
LAST-MODIFIED:20211113T170829Z
UID:1209-1636815600-1636819200@www.xenharmonikon.org
SUMMARY:Débo Ray and Screaming Headless Torsos | Salvation Army Kroc Center | Boston\, MA
DESCRIPTION:Saturday\, November 13\, 3:00 PM EST & Virtually Thursday\, November 18\, 8:00 PM EST \nCourtesy of David Fiuczynski\nGrammy nominated vocalist and composer Débo Ray gives an in-person performance Saturday\, November 13\, and is joined by David Fuze Fiuczynski on guitar and fretless guitar\, Wesley Wirth on bass\, Utar Artun on microtonal keyboards\, and Ransom McCafferty on drums. \nThe concert features new music from David Fiuczynski’s band Screaming Headless Torso\, new works by Débo Ray\, Wes Wirth\, and Fiuczynski collectively\, and an arrangement of John McLaughlin’s “Dance of Maya” by Fiuczynski\, Wirth\, and Ray. \nThe concert is the third of five performances of the Neighborhood Arts Jazz & Contemporary Music Series currently taking place around Greater Boston. A recording of the performance will be made available to stream digitally on Thursday\, November 18\, at 8:00 PM EST. \nRegister for the in-person performance and virtual premiere here. \n*Masks and proof of vaccination required.* \n  \n 
URL:https://www.xenharmonikon.org/event/debo-ray-and-screaming-headless-torsos-salvation-army-kroc-center-boston-ma/
LOCATION:The Salvation Army Ray and Joan Kroc Corps Community Center\, 650 Dudley St.\, Boston\, MA\, 02125\, United States
CATEGORIES:Live Performance,Virtual Event
END:VEVENT
BEGIN:VEVENT
DTSTART;TZID=America/Los_Angeles:20211114T060000
DTEND;TZID=America/Los_Angeles:20211114T073000
DTSTAMP:20260422T201508
CREATED:20211119T184750Z
LAST-MODIFIED:20211119T205003Z
UID:1229-1636869600-1636875000@www.xenharmonikon.org
SUMMARY:Gradus ad Parnassum - Autumn 2021 (Virtual Event #6)
DESCRIPTION:Sunday Nov 14 \n \nThe international contemporary music learning circle\, Gradus ad Parnassum\, opens the doors into the intriguing world of a new music theory and practice. There will take place regular online meetings every second week on Sundays and are open to the public. We share knowledge\, discuss\, sing\, play instruments\, learn and discover. Participants from all continents are welcome. The learning circle will be held in English. \nMeetings are held virtually using jitsi and cleanfeed for high fidelity and low latency. Jitsi is free but you must register with email and headphones are required for participation. \nTutored by Hans-Gunter Lock with contributions by Juhani Nuorvala. \nFind all upcoming and past events for Gradus ad Parnassum here.
URL:https://www.xenharmonikon.org/event/gradus-ad-parnassum-autumn-2021-virtual-event-6/
LOCATION:Pärnu\, Pärnu\, Estonia
CATEGORIES:Virtual Event
END:VEVENT
BEGIN:VEVENT
DTSTART;TZID=America/New_York:20211114T113000
DTEND;TZID=America/New_York:20211114T143000
DTSTAMP:20260422T201508
CREATED:20211111T024453Z
LAST-MODIFIED:20211111T024453Z
UID:1200-1636889400-1636900200@www.xenharmonikon.org
SUMMARY:MU University (Virtual Event #12)
DESCRIPTION:Sunday Nov 14 \n11:30 AM-12:30 PM (EST) Instruction: The False Scandals Lodged Against Charles Ives \n\nCarol Kitzes Baron and the Ives Scandal of Changing Dates\nJohnny Reinhard on the Ives Scandal of Changing Chromatics to make his Music “More Dissonant”\nAnthony Cooke on his new research into Ives and the particulars of Ives’s illness\n\n1:00 PM-2:30 PM (EST) The making of the Charles Ives “Universe Symphony\,” and Ives’s transcendental tuning in the “Concord Sonata\,” “String Quartet No. 2\,” and the “Unanswered Question\,” w/ Johnny Reinhard. \nIves: The Universe Symphony – Johnny Reinhard\, conductor of the American Festival of Microtonal Music Orchestra in Lincoln Center\, NYC – world premiere 1996-06-06 and rehearsal | Johnny Reinhard (bandcamp.com) \nIves: Concord Sonata\, String Quartet No. 2\, and the Unanswered Question in extended Pythagorean tuning \nA $200 USD yearly membership is available at afmm.org which includes admission to all virtual events.
URL:https://www.xenharmonikon.org/event/mu-university-virtual-event-12/
LOCATION:afmm.org online\, NYC\, United States
CATEGORIES:Virtual Event
END:VEVENT
BEGIN:VEVENT
DTSTART;TZID=America/New_York:20211121T130000
DTEND;TZID=America/New_York:20211121T163000
DTSTAMP:20260422T201508
CREATED:20211119T193114Z
LAST-MODIFIED:20211121T174849Z
UID:1238-1637499600-1637512200@www.xenharmonikon.org
SUMMARY:MU University (Virtual Event #13)
DESCRIPTION:Sunday Nov 21 \n1:00 PM-2:30 PM (EST) Instruction: Subhraag Singh and the Infinitone meet Daniel Vaczi (Budapest) and the Glissotar \nSingh: The Infinitone – FIRST PRIZE Performance at the 2017 Guthman New Musical Instrument Competition \nVaczi: A Courteous Invitation To An Uninhabited Anabatic Prism by Decolonize Your Mind Society feat. Daniel Vaczi\, Erno Hock\, Janos Aved\, and others on synth\, just intonation guitar\, saxophone\, and glissonic \n3:00 PM-4:30 PM (EST) with Jon Catler: The Basics | “Cowpeople” | The EP in 31-edo \nCatler: RELIGIONE EST UNE SALOPE by Jon Catler in 31edo\, played by Johnny Reinhard (bassoon​)​\, Walter Moore & Danice Gomien (vocals​)​\, & Jon Catler (31​-​tone acoustic) \nA $200 USD yearly membership is available at afmm.org which includes admission to all virtual events.
URL:https://www.xenharmonikon.org/event/mu-university-virtual-event-13/
LOCATION:afmm.org online\, NYC\, United States
CATEGORIES:Virtual Event
END:VEVENT
BEGIN:VEVENT
DTSTART;TZID=America/Los_Angeles:20211128T070000
DTEND;TZID=America/Los_Angeles:20211128T080000
DTSTAMP:20260422T201508
CREATED:20211119T205350Z
LAST-MODIFIED:20211119T211722Z
UID:1242-1638082800-1638086400@www.xenharmonikon.org
SUMMARY:Gradus ad Parnassum - Autumn 2021 (Virtual Event #7)
DESCRIPTION:Sunday Nov 28 \n \nThe international contemporary music learning circle\, Gradus ad Parnassum\, opens the doors into the intriguing world of a new music theory and practice. There will take place regular online meetings every second week on Sundays and are open to the public. We share knowledge\, discuss\, sing\, play instruments\, learn and discover. Participants from all continents are welcome. The learning circle will be held in English. \nMeetings are held virtually using jitsi and cleanfeed for high fidelity and low latency. Jitsi is free but you must register with email and headphones are required for participation. \nTutored by Hans-Gunter Lock with contributions by Juhani Nuorvala. \nFind all upcoming and past events for Gradus ad Parnassum here.
URL:https://www.xenharmonikon.org/event/gradus-ad-parnassum-autumn-2021-virtual-event-7/
LOCATION:Pärnu\, Pärnu\, Estonia
CATEGORIES:Virtual Event
END:VEVENT
BEGIN:VEVENT
DTSTART;TZID=America/New_York:20211128T130000
DTEND;TZID=America/New_York:20211128T143000
DTSTAMP:20260422T201508
CREATED:20211119T211048Z
LAST-MODIFIED:20211119T211048Z
UID:1246-1638104400-1638109800@www.xenharmonikon.org
SUMMARY:MU University (Virtual Event #14)
DESCRIPTION:Sunday Nov 28 \n1:00 PM-2:30 PM (EST) Johnny Reinhard moderates a Composers Forum featuring virtuoso performer composers\, Dave Taylor\, Veli Kujala\, Robert Dick\, and Tom Chiu \nTaylor: AFMM – May 2\, 2007 – Bowery Poetry Club\, NYC – IMPRIMATOR (Dave Taylor) \nKujala: Veli Kujala at Tulkinnanvaraista\, April 11\, 2013 – Hyperchromatic Counterpoint for quartertone accordion and tape \nDick: PURPLE HAVE by Robert Dick – flute (homage to Jimi Hendrix) \nChiu: imho by Tom Chiu\, ATMOSPHERES – AFMM – released November 11\, 2018  \nReinhard: ZANZIBAR – AFMM – April 29\, 1993  \nA $200 USD yearly membership is available at afmm.org which includes admission to all virtual events.
URL:https://www.xenharmonikon.org/event/mu-university-virtual-event-14/
LOCATION:afmm.org online\, NYC\, United States
END:VEVENT
BEGIN:VEVENT
DTSTART;TZID=America/New_York:20211204T220000
DTEND;TZID=America/New_York:20211204T233000
DTSTAMP:20260422T201508
CREATED:20211206T221252Z
LAST-MODIFIED:20211206T221252Z
UID:1259-1638655200-1638660600@www.xenharmonikon.org
SUMMARY:MU University (Virtual Event #15)
DESCRIPTION:Saturday Dec 4 \nMU Global \n10:00 PM-11: PM (EST) KEWTI – Adrian Sherriff and Tom Fryer microtonalize on trombone and fretless guitar\, respectively\, from Melbourne\, Australia \n11:00 PM-12:00 AM (EST) Australian Composers Form\, moderated by Terumi Narushima\, featuring Warren Burt\, Amanda Cole\, Kraig Grady\, and Michael Hugh Dixon \nA $200 USD yearly membership is available at afmm.org which includes admission to all virtual events.
URL:https://www.xenharmonikon.org/event/mu-university-virtual-event-15/
LOCATION:afmm.org online\, NYC\, United States
CATEGORIES:Virtual Event
END:VEVENT
BEGIN:VEVENT
DTSTART;TZID=Europe/Amsterdam:20211212T110000
DTEND;TZID=Europe/Amsterdam:20211212T123000
DTSTAMP:20260422T201508
CREATED:20211121T184639Z
LAST-MODIFIED:20211121T184807Z
UID:1250-1639306800-1639312200@www.xenharmonikon.org
SUMMARY:The Huygens-Fokker Foundation Presents: "The Microtones of Anatolia" featuring Tolgahan Çoğulu & Ere Lievonen
DESCRIPTION:Sunday Dec 12 \n \nIn the concert\, The Microtones of Anatolia\, the internationally renowned Turkish microtonal guitarist Tolgahan Çoğulu and the permanent organist of the Fokker-Orgel\, Ere Lievonen\, perform non-Western world premieres and arrangements of traditional Anatalonian folk songs. \nIn addition\, guitarist Tolgahan Çoğulu will give a lecture-performance with and about his special microtonal guitar in the afternoon. \nhttps://www.muziekgebouw.nl/agenda/10882/Tolgahan_Co_ulu_Ere_Lievonen/De_microtonen_van_Anatolie \nTolgahan Çoğulu – Acoustic Microtonal Guitar with Movable Frets\nEre Lievonen – Fokker Organ & Carrillo Piano \n 
URL:https://www.xenharmonikon.org/event/stichting-huygens-fokker-presents-the-microtones-of-anatolia-featuring-tolgahan-cogulu-ere-lievonen/
LOCATION:Muziekgebouw aan ‘t IJ\, Piet Heinkade 1\, 1019 BR\, Amsterdam\, Netherlands
END:VEVENT
BEGIN:VEVENT
DTSTART;TZID=America/New_York:20211212T113000
DTEND;TZID=America/New_York:20211212T143000
DTSTAMP:20260422T201508
CREATED:20211206T222713Z
LAST-MODIFIED:20211206T222713Z
UID:1273-1639308600-1639319400@www.xenharmonikon.org
SUMMARY:MU University (Virtual Event #17)
DESCRIPTION:Sunday Dec 12 \n11:30 AM-12:30 PM (EST) Instruction: Ear Training with Amelia Huff and Johnny Reinhard \nHuff\, Zhea Erose – Sola [31edo & just] – YouTube\nReinhard\, TREES | Johnny Reinhard (bandcamp.com) \n  \n1-2:30 PM (EST) Composer Manfred Stahnke (III of III) – improvisation through composition \n*Bring an instrument and participate in a completely improvised composition event recorded using Zoom.* \nA $200 USD yearly membership is available at afmm.org which includes admission to all virtual events.
URL:https://www.xenharmonikon.org/event/mu-university-virtual-event-17/
LOCATION:afmm.org online\, NYC\, United States
CATEGORIES:Virtual Event
END:VEVENT
BEGIN:VEVENT
DTSTART;TZID=Australia/Sydney:20211219T113000
DTEND;TZID=Australia/Sydney:20211219T143000
DTSTAMP:20260422T201508
CREATED:20211206T223545Z
LAST-MODIFIED:20211206T223545Z
UID:1275-1639913400-1639924200@www.xenharmonikon.org
SUMMARY:MU University (Virtual Event #18)
DESCRIPTION:Sunday Dec 19 \n11:30 AM-12:30 PM (EST) Instruction: Angel Blanco presents Julian Carrillo of Mexico.\nCarrillo\, Sonido 13 de Julián Carrillo “BALBUCEOS” – YouTube\nBlanco\, DYZN by Eduardo Caballero\, played by Angel Blanco – metamorpisized guitar | Johnny Reinhard (bandcamp.com) \n1:00 PM-2:30 PM (EST) Meredith Borden takes you through 2 compositions featuring the soprano by composer Julian Carrillo. \nCarrillo\, PRELUDIO A COLON – Meredith Borden\, soprano | Johnny Reinhard (bandcamp.com)\nCarrillo\, I THINK OF YOU by Julian Carrillo – world premiere performance | Johnny Reinhard (bandcamp.com) \nA $200 USD yearly membership is available at afmm.org which includes admission to all virtual events.
URL:https://www.xenharmonikon.org/event/mu-university-virtual-event-18/
LOCATION:afmm.org online\, NYC\, United States
END:VEVENT
BEGIN:VEVENT
DTSTART;TZID=America/New_York:20211226T130000
DTEND;TZID=America/New_York:20211226T143000
DTSTAMP:20260422T201508
CREATED:20211206T225246Z
LAST-MODIFIED:20211206T225246Z
UID:1277-1640523600-1640529000@www.xenharmonikon.org
SUMMARY:MU University (Virtual Event #19)
DESCRIPTION:Sunday Dec 26 \n1:00 PM-1:30 PM (EST) – Live Concert featuring mezzo-soprano Lore Lixenberg performing the second half of Peter Thoegersen’s “Cantos.”\n[please be advised: vile lyrics] \nLixenberg\, Luciano Berio: “O King” extract \n1:30 PM-2:30 PM (EST) – MU PARTY – featuring the percussion of Frank Malloy. \nNatie Music featuring Frank Malloy – “Sirens” \nA $200 USD yearly membership is available at afmm.org which includes admission to all virtual events.
URL:https://www.xenharmonikon.org/event/mu-university-virtual-event-19/
LOCATION:afmm.org online\, NYC\, United States
CATEGORIES:Virtual Event
END:VEVENT
BEGIN:VEVENT
DTSTART;VALUE=DATE:20211231
DTEND;VALUE=DATE:20220101
DTSTAMP:20260422T201508
CREATED:20211129T170540Z
LAST-MODIFIED:20211129T170540Z
UID:1265-1640908800-1640995199@www.xenharmonikon.org
SUMMARY:Collective Microtonal Piano Album | Sponsored by Mizzan
DESCRIPTION:Submission Deadline: Dec 31 \nMizzan Microtonal Piano\, based in Berlin\, invites microtonal musicians to participate in a collective album by sharing their compositions or performances. Any and all microtonal compositions are acceptable and must be rendered through Mizzan’s Sound Module. MSF\, Scala\, and AnaMark Tun tuning files all work with Mizzan. \nMizzan is thoroughly tunable. The instrument consists of 264 keys and every key may be tuned to any frequency\, and they may be organised in any order. All you need to prepare is a MIDI file and an MSF tuning file. \nIt is recommended performers record a MIDI file from a live performance. Submission requires MIDI files\, notation files\, and tuning files. If the file is not generated from a live performance\, a pianist will attempt to record your composition prior to the December 31st deadline. \nSend submissions and questions to mizzan.community@gmail.com. \nAll profits from the album and subsequent performances will go solely to the composers\, performers\, and authors. \nFor more information about the collective album and the Mizzan instrument\, click here. \nCopyright Mizzan\, 2021
URL:https://www.xenharmonikon.org/event/collective-microtonal-piano-album-sponsored-by-mizzan/
CATEGORIES:Virtual Event
ORGANIZER;CN="Mizzan":MAILTO:mizzan.community@gmail.com
END:VEVENT
BEGIN:VEVENT
DTSTART;TZID=America/New_York:20220130T130000
DTEND;TZID=America/New_York:20220130T143000
DTSTAMP:20260422T201508
CREATED:20220123T211033Z
LAST-MODIFIED:20220123T211033Z
UID:1472-1643547600-1643553000@www.xenharmonikon.org
SUMMARY:Microtonal University (Virtual Event #24)
DESCRIPTION:Sunday Jan 30  \n1:00 PM-2:30 PM (EST) \nSvjetlana Bukvich is the moderator for a Composers Forum\nwith just intonation composer performers. \nMichael Harrison – “Revelation” live in Rome (highlights) \nJohn Schneider – “FAR OFF SOUNDS | Microtonal Man” \nAmelia Huff – “Zhea Erose – Novemdeca [in Just Intonation]” \nJon Catler – “Sleeping Beauty” from UNTEMPERED & TEMPERED \nA $200 USD yearly membership is available at afmm.org which includes admission to all virtual events. \nFor more information and MU Schedule: https://www.afmm.org/.
URL:https://www.xenharmonikon.org/event/microtonal-university-virtual-event-24/
LOCATION:afmm.org online\, NYC\, United States
CATEGORIES:Virtual Event
END:VEVENT
BEGIN:VEVENT
DTSTART;TZID=America/New_York:20220205T220000
DTEND;TZID=America/New_York:20220206T000000
DTSTAMP:20260422T201508
CREATED:20220123T232236Z
LAST-MODIFIED:20220123T234924Z
UID:1475-1644098400-1644105600@www.xenharmonikon.org
SUMMARY:Microtonal University Global (Virtual Event #25)
DESCRIPTION:Sat Feb 5 \n10:00 PM-11:00 PM (New York/EST) \nPresentation: Amanda Cole with guest Greg Schiemer (Australia) \nCole: INSTRUMENTAL PIECES – https://www.amandacolemusic.com/program-notes \nSchiemer: Artist Page with Australian Music Centre \n11:00 PM-12:00 AM (New York/EST) \nHitomi Shimizu of SXZYGYS (Japan) \nShimizu: “warewarewa” released May 27\, 2020 | bandcamp featuring Tonal Plexus 6s microtonal keyboard and Partch 43 tone scale in C \nA $200 USD yearly membership is available at afmm.org which includes admission to all virtual events. \nFor more information and MU Schedule: https://www.afmm.org/6
URL:https://www.xenharmonikon.org/event/microtonal-university-global-virtual-event-25/
LOCATION:afmm.org online\, NYC\, United States
CATEGORIES:Virtual Event
END:VEVENT
BEGIN:VEVENT
DTSTART;TZID=America/New_York:20220206T130000
DTEND;TZID=America/New_York:20220206T143000
DTSTAMP:20260422T201508
CREATED:20220123T234736Z
LAST-MODIFIED:20220123T234736Z
UID:1477-1644152400-1644157800@www.xenharmonikon.org
SUMMARY:Microtonal University (Virtual Event #26)
DESCRIPTION:Sun Feb 6 \n1:00 PM-2:30 PM (EST) \nPhilipp Gerschlauer explores Just Intonation in Jazz with guests Reza Askari and Michael Battaglia. \nStride Piano\, Barbershop\, 31tet\, and Blues. \nGerschlauer: Night And Day (Solo Transcription by Philipp Gerschlauer) – YouTube \nBattaglia: Some Stride Piano for you all – Sweet Lorraine (31-TET version) – YouTube & Sweet Lorraine 31-TET stride piano (transcription) – YouTube \nBarber Shop in JI: Platinum – 2000 International Quartet Final – YouTube \nA $200 USD yearly membership is available at afmm.org which includes admission to all virtual events. \nFor more information and MU Schedule: https://www.afmm.org/.
URL:https://www.xenharmonikon.org/event/microtonal-university-virtual-event-26/
LOCATION:afmm.org online\, NYC\, United States
CATEGORIES:Virtual Event
END:VEVENT
END:VCALENDAR